BEGIN:VCALENDAR
VERSION:2.0
PRODID:-//The Whisky Sours - ECPv6.15.20//NONSGML v1.0//EN
CALSCALE:GREGORIAN
METHOD:PUBLISH
X-ORIGINAL-URL:https://thewhiskysours.com
X-WR-CALDESC:Events for The Whisky Sours
REFRESH-INTERVAL;VALUE=DURATION:PT1H
X-Robots-Tag:noindex
X-PUBLISHED-TTL:PT1H
BEGIN:VTIMEZONE
TZID:UTC
BEGIN:STANDARD
TZOFFSETFROM:+0000
TZOFFSETTO:+0000
TZNAME:UTC
DTSTART:20230101T000000
END:STANDARD
END:VTIMEZONE
BEGIN:VTIMEZONE
TZID:Europe/London
BEGIN:DAYLIGHT
TZOFFSETFROM:+0000
TZOFFSETTO:+0100
TZNAME:BST
DTSTART:20230326T010000
END:DAYLIGHT
BEGIN:STANDARD
TZOFFSETFROM:+0100
TZOFFSETTO:+0000
TZNAME:GMT
DTSTART:20231029T010000
END:STANDARD
BEGIN:DAYLIGHT
TZOFFSETFROM:+0000
TZOFFSETTO:+0100
TZNAME:BST
DTSTART:20240331T010000
END:DAYLIGHT
BEGIN:STANDARD
TZOFFSETFROM:+0100
TZOFFSETTO:+0000
TZNAME:GMT
DTSTART:20241027T010000
END:STANDARD
BEGIN:DAYLIGHT
TZOFFSETFROM:+0000
TZOFFSETTO:+0100
TZNAME:BST
DTSTART:20250330T010000
END:DAYLIGHT
BEGIN:STANDARD
TZOFFSETFROM:+0100
TZOFFSETTO:+0000
TZNAME:GMT
DTSTART:20251026T010000
END:STANDARD
END:VTIMEZONE
BEGIN:VEVENT
DTSTART;TZID=UTC:20250802T210000
DTEND;TZID=UTC:20250802T233000
DTSTAMP:20260424T215638
CREATED:20250517T115513Z
LAST-MODIFIED:20250517T115513Z
UID:1788-1754168400-1754177400@thewhiskysours.com
SUMMARY:The Brewer's Arms\, Neston
DESCRIPTION:
URL:https://thewhiskysours.com/gig/the-brewers-arms-neston/
LOCATION:The Brewer’s Arms\, Neston\, 1 Park St\, Neston\, CH64 3RP\, United Kingdom
CATEGORIES:Public
END:VEVENT
BEGIN:VEVENT
DTSTART;TZID=UTC:20250801T203000
DTEND;TZID=UTC:20250801T233000
DTSTAMP:20260424T215638
CREATED:20250517T115412Z
LAST-MODIFIED:20250517T115412Z
UID:1786-1754080200-1754091000@thewhiskysours.com
SUMMARY:The Irby Club
DESCRIPTION:
URL:https://thewhiskysours.com/gig/the-irby-club/
LOCATION:Irby Club\, 15 Thingwall Rd\, Irby\, Birkenhead\, CH61 3UA\, United Kingdom
CATEGORIES:Public
END:VEVENT
BEGIN:VEVENT
DTSTART;TZID=UTC:20250712T210000
DTEND;TZID=UTC:20250712T233000
DTSTAMP:20260424T215638
CREATED:20250517T000709Z
LAST-MODIFIED:20250517T000709Z
UID:1778-1752354000-1752363000@thewhiskysours.com
SUMMARY:The Johnny Pye
DESCRIPTION:
URL:https://thewhiskysours.com/gig/the-johnny-pye-8/
LOCATION:Johnny Pye\, 5 Pye Road\, Heswall\, Merseyside\, CH60 0DB\, United Kingdom
CATEGORIES:Public
END:VEVENT
BEGIN:VEVENT
DTSTART;TZID=UTC:20250705T210000
DTEND;TZID=UTC:20250705T233000
DTSTAMP:20260424T215638
CREATED:20250517T000611Z
LAST-MODIFIED:20250517T000611Z
UID:1776-1751749200-1751758200@thewhiskysours.com
SUMMARY:The Cock and Pullet
DESCRIPTION:
URL:https://thewhiskysours.com/gig/the-cock-and-pullet/
LOCATION:The Cock and Pullet\, 100 Woodchurch Rd\, Birkenhead\, CH42 9LP\, United Kingdom
CATEGORIES:Public
END:VEVENT
BEGIN:VEVENT
DTSTART;TZID=UTC:20250704T210000
DTEND;TZID=UTC:20250704T233000
DTSTAMP:20260424T215638
CREATED:20250517T000357Z
LAST-MODIFIED:20250517T000357Z
UID:1772-1751662800-1751671800@thewhiskysours.com
SUMMARY:Duke's
DESCRIPTION:
URL:https://thewhiskysours.com/gig/dukes-9/
LOCATION:Duke’s\, 1 Seaview Road\, Wallasey\, CH45 4QN\, United Kingdom
CATEGORIES:Public
END:VEVENT
BEGIN:VEVENT
DTSTART;VALUE=DATE:20250628
DTEND;VALUE=DATE:20250629
DTSTAMP:20260424T215638
CREATED:20250517T000317Z
LAST-MODIFIED:20250517T000317Z
UID:1770-1751068800-1751155199@thewhiskysours.com
SUMMARY:Bazzfest\, The Johnny Pye
DESCRIPTION:
URL:https://thewhiskysours.com/gig/bazzfest-the-johnny-pye/
LOCATION:Johnny Pye\, 5 Pye Road\, Heswall\, Merseyside\, CH60 0DB\, United Kingdom
CATEGORIES:Public
END:VEVENT
BEGIN:VEVENT
DTSTART;TZID=UTC:20250607T210000
DTEND;TZID=UTC:20250607T233000
DTSTAMP:20260424T215638
CREATED:20250517T000248Z
LAST-MODIFIED:20250517T000248Z
UID:1768-1749330000-1749339000@thewhiskysours.com
SUMMARY:Queen's Arms\, Oxton
DESCRIPTION:
URL:https://thewhiskysours.com/gig/queens-arms-oxton-2/
LOCATION:Queens Arms\, Oxton\, 1 Storeton Road\, Oxton\, CH43 5TL\, United Kingdom
CATEGORIES:Public
END:VEVENT
BEGIN:VEVENT
DTSTART;TZID=UTC:20250606T210000
DTEND;TZID=UTC:20250606T233000
DTSTAMP:20260424T215638
CREATED:20250517T000153Z
LAST-MODIFIED:20250517T000153Z
UID:1766-1749243600-1749252600@thewhiskysours.com
SUMMARY:King's Inn\, Bebington
DESCRIPTION:
URL:https://thewhiskysours.com/gig/kings-inn-bebington/
LOCATION:King’s Inn\, Kings Ln\, Rock Ferry\, Birkenhead\, CH63 8NR\, United Kingdom
CATEGORIES:Public
END:VEVENT
BEGIN:VEVENT
DTSTART;TZID=UTC:20250530T080000
DTEND;TZID=UTC:20250530T170000
DTSTAMP:20260424T215638
CREATED:20250516T234657Z
LAST-MODIFIED:20250516T234657Z
UID:1729-1748592000-1748624400@thewhiskysours.com
SUMMARY:The Johnny Pye
DESCRIPTION:
URL:https://thewhiskysours.com/gig/the-johnny-pye-3/
LOCATION:Johnny Pye\, 5 Pye Road\, Heswall\, Merseyside\, CH60 0DB\, United Kingdom
CATEGORIES:Public
END:VEVENT
BEGIN:VEVENT
DTSTART;TZID=UTC:20250517T210000
DTEND;TZID=UTC:20250517T233000
DTSTAMP:20260424T215638
CREATED:20250516T234505Z
LAST-MODIFIED:20250516T234505Z
UID:1725-1747515600-1747524600@thewhiskysours.com
SUMMARY:The Mersey Clipper
DESCRIPTION:
URL:https://thewhiskysours.com/gig/the-mersey-clipper-4/
LOCATION:The Mersey Clipper\, 17 Prenton Road West\, Birkenhead\, Merseyside\, CH42 9PY\, United Kingdom
CATEGORIES:Public
END:VEVENT
BEGIN:VEVENT
DTSTART;VALUE=DATE:20250510
DTEND;VALUE=DATE:20250511
DTSTAMP:20260424T215638
CREATED:20250516T235006Z
LAST-MODIFIED:20250516T235006Z
UID:1734-1746835200-1746921599@thewhiskysours.com
SUMMARY:The Travs
DESCRIPTION:
URL:https://thewhiskysours.com/gig/the-travs/
LOCATION:The Traveller’s Rest (The Travs)\, 14 Ledsham Rd\, Little Sutton\, Ellesmere Port\, CH66 4QQ\, United Kingdom
CATEGORIES:Public
END:VEVENT
BEGIN:VEVENT
DTSTART;VALUE=DATE:20250503
DTEND;VALUE=DATE:20250504
DTSTAMP:20260424T215638
CREATED:20250516T235043Z
LAST-MODIFIED:20250516T235043Z
UID:1736-1746230400-1746316799@thewhiskysours.com
SUMMARY:The Johnny Pye
DESCRIPTION:
URL:https://thewhiskysours.com/gig/the-johnny-pye-4/
LOCATION:Johnny Pye\, 5 Pye Road\, Heswall\, Merseyside\, CH60 0DB\, United Kingdom
CATEGORIES:Public
END:VEVENT
BEGIN:VEVENT
DTSTART;VALUE=DATE:20250419
DTEND;VALUE=DATE:20250420
DTSTAMP:20260424T215638
CREATED:20250516T235306Z
LAST-MODIFIED:20250516T235306Z
UID:1741-1745020800-1745107199@thewhiskysours.com
SUMMARY:Admiral Duncan
DESCRIPTION:
URL:https://thewhiskysours.com/gig/admiral-duncan/
LOCATION:Admiral Duncan Inn\, Newtown Gardens\, Baschurch\, Shrewsbury\, SY4 2AY\, United Kingdom
CATEGORIES:Public
END:VEVENT
BEGIN:VEVENT
DTSTART;TZID=UTC:20250404T080000
DTEND;TZID=UTC:20250404T170000
DTSTAMP:20260424T215638
CREATED:20250516T235350Z
LAST-MODIFIED:20250516T235350Z
UID:1743-1743753600-1743786000@thewhiskysours.com
SUMMARY:The Johnny Pye - 2nd Anniversary Party
DESCRIPTION:
URL:https://thewhiskysours.com/gig/the-johnny-pye-2nd-anniversary-party/
LOCATION:Johnny Pye\, 5 Pye Road\, Heswall\, Merseyside\, CH60 0DB\, United Kingdom
CATEGORIES:Public
END:VEVENT
BEGIN:VEVENT
DTSTART;VALUE=DATE:20250329
DTEND;VALUE=DATE:20250330
DTSTAMP:20260424T215638
CREATED:20250516T235421Z
LAST-MODIFIED:20250516T235421Z
UID:1745-1743206400-1743292799@thewhiskysours.com
SUMMARY:Johnny Pye
DESCRIPTION:
URL:https://thewhiskysours.com/gig/johnny-pye-9/
LOCATION:Johnny Pye\, 5 Pye Road\, Heswall\, Merseyside\, CH60 0DB\, United Kingdom
CATEGORIES:Public
END:VEVENT
BEGIN:VEVENT
DTSTART;VALUE=DATE:20250328
DTEND;VALUE=DATE:20250329
DTSTAMP:20260424T215638
CREATED:20250516T235501Z
LAST-MODIFIED:20250516T235501Z
UID:1747-1743120000-1743206399@thewhiskysours.com
SUMMARY:Duke's
DESCRIPTION:
URL:https://thewhiskysours.com/gig/dukes-7/
LOCATION:Duke’s\, 1 Seaview Road\, Wallasey\, CH45 4QN\, United Kingdom
CATEGORIES:Public
END:VEVENT
BEGIN:VEVENT
DTSTART;VALUE=DATE:20250315
DTEND;VALUE=DATE:20250316
DTSTAMP:20260424T215638
CREATED:20250516T235545Z
LAST-MODIFIED:20250516T235545Z
UID:1749-1741996800-1742083199@thewhiskysours.com
SUMMARY:The Mersey Clipper
DESCRIPTION:
URL:https://thewhiskysours.com/gig/the-mersey-clipper-5/
LOCATION:The Mersey Clipper\, 17 Prenton Road West\, Birkenhead\, Merseyside\, CH42 9PY\, United Kingdom
CATEGORIES:Public
END:VEVENT
BEGIN:VEVENT
DTSTART;VALUE=DATE:20250308
DTEND;VALUE=DATE:20250309
DTSTAMP:20260424T215638
CREATED:20250516T235653Z
LAST-MODIFIED:20250516T235653Z
UID:1753-1741392000-1741478399@thewhiskysours.com
SUMMARY:The Trav's
DESCRIPTION:
URL:https://thewhiskysours.com/gig/the-travs-2/
LOCATION:The Traveller’s Rest (The Travs)\, 14 Ledsham Rd\, Little Sutton\, Ellesmere Port\, CH66 4QQ\, United Kingdom
CATEGORIES:Public
END:VEVENT
BEGIN:VEVENT
DTSTART;VALUE=DATE:20250307
DTEND;VALUE=DATE:20250308
DTSTAMP:20260424T215638
CREATED:20250516T235619Z
LAST-MODIFIED:20250516T235619Z
UID:1751-1741305600-1741391999@thewhiskysours.com
SUMMARY:The Johnny Pye
DESCRIPTION:
URL:https://thewhiskysours.com/gig/the-johnny-pye-5/
LOCATION:Johnny Pye\, 5 Pye Road\, Heswall\, Merseyside\, CH60 0DB\, United Kingdom
CATEGORIES:Public
END:VEVENT
BEGIN:VEVENT
DTSTART;VALUE=DATE:20250214
DTEND;VALUE=DATE:20250215
DTSTAMP:20260424T215638
CREATED:20250516T235727Z
LAST-MODIFIED:20250516T235727Z
UID:1755-1739491200-1739577599@thewhiskysours.com
SUMMARY:The Johnny Pye
DESCRIPTION:
URL:https://thewhiskysours.com/gig/the-johnny-pye-6/
LOCATION:Johnny Pye\, 5 Pye Road\, Heswall\, Merseyside\, CH60 0DB\, United Kingdom
CATEGORIES:Public
END:VEVENT
BEGIN:VEVENT
DTSTART;VALUE=DATE:20250131
DTEND;VALUE=DATE:20250201
DTSTAMP:20260424T215638
CREATED:20250516T235800Z
LAST-MODIFIED:20250516T235800Z
UID:1757-1738281600-1738367999@thewhiskysours.com
SUMMARY:Duke's
DESCRIPTION:
URL:https://thewhiskysours.com/gig/dukes-8/
LOCATION:Duke’s\, 1 Seaview Road\, Wallasey\, CH45 4QN\, United Kingdom
CATEGORIES:Public
END:VEVENT
BEGIN:VEVENT
DTSTART;VALUE=DATE:20250125
DTEND;VALUE=DATE:20250126
DTSTAMP:20260424T215638
CREATED:20250516T235829Z
LAST-MODIFIED:20250516T235829Z
UID:1759-1737763200-1737849599@thewhiskysours.com
SUMMARY:The Johnny Pye
DESCRIPTION:
URL:https://thewhiskysours.com/gig/the-johnny-pye-7/
LOCATION:Johnny Pye\, 5 Pye Road\, Heswall\, Merseyside\, CH60 0DB\, United Kingdom
CATEGORIES:Public
END:VEVENT
BEGIN:VEVENT
DTSTART;VALUE=DATE:20250111
DTEND;VALUE=DATE:20250112
DTSTAMP:20260424T215638
CREATED:20250516T235859Z
LAST-MODIFIED:20250516T235859Z
UID:1761-1736553600-1736639999@thewhiskysours.com
SUMMARY:The Mersey Clipper
DESCRIPTION:
URL:https://thewhiskysours.com/gig/the-mersey-clipper-6/
LOCATION:The Mersey Clipper\, 17 Prenton Road West\, Birkenhead\, Merseyside\, CH42 9PY\, United Kingdom
CATEGORIES:Public
END:VEVENT
BEGIN:VEVENT
DTSTART;TZID=UTC:20241220T210000
DTEND;TZID=UTC:20241220T233000
DTSTAMP:20260424T215638
CREATED:20241024T143041Z
LAST-MODIFIED:20241024T143041Z
UID:1721-1734728400-1734737400@thewhiskysours.com
SUMMARY:Johnny Pye
DESCRIPTION:
URL:https://thewhiskysours.com/gig/johnny-pye-8/
LOCATION:Johnny Pye\, 5 Pye Road\, Heswall\, Merseyside\, CH60 0DB\, United Kingdom
CATEGORIES:Public
END:VEVENT
BEGIN:VEVENT
DTSTART;TZID=UTC:20241207T210000
DTEND;TZID=UTC:20241207T233000
DTSTAMP:20260424T215638
CREATED:20240321T110123Z
LAST-MODIFIED:20240321T110123Z
UID:1688-1733605200-1733614200@thewhiskysours.com
SUMMARY:Duke's
DESCRIPTION:
URL:https://thewhiskysours.com/gig/dukes-6/
LOCATION:Duke’s\, 1 Seaview Road\, Wallasey\, CH45 4QN\, United Kingdom
CATEGORIES:Public
END:VEVENT
BEGIN:VEVENT
DTSTART;TZID=UTC:20241206T203000
DTEND;TZID=UTC:20241206T233000
DTSTAMP:20260424T215638
CREATED:20241024T142928Z
LAST-MODIFIED:20241024T142928Z
UID:1717-1733517000-1733527800@thewhiskysours.com
SUMMARY:Onyx\, Heswall
DESCRIPTION:
URL:https://thewhiskysours.com/gig/onyx-heswall/
LOCATION:Onyx\, 244 - 246 Telegraph Rd\, Heswall\, Wirral\, CH60 7SG\, United Kingdom
CATEGORIES:Public
END:VEVENT
BEGIN:VEVENT
DTSTART;TZID=Europe/London:20241129T210000
DTEND;TZID=Europe/London:20241129T233000
DTSTAMP:20260424T215638
CREATED:20241024T142658Z
LAST-MODIFIED:20241024T142658Z
UID:1715-1732914000-1732923000@thewhiskysours.com
SUMMARY:Johnny Pye
DESCRIPTION:
URL:https://thewhiskysours.com/gig/johnny-pye-6/
LOCATION:Johnny Pye\, 5 Pye Road\, Heswall\, Merseyside\, CH60 0DB\, United Kingdom
CATEGORIES:Public
END:VEVENT
BEGIN:VEVENT
DTSTART;TZID=UTC:20241109T210000
DTEND;TZID=UTC:20241109T233000
DTSTAMP:20260424T215638
CREATED:20240321T110020Z
LAST-MODIFIED:20240321T110020Z
UID:1686-1731186000-1731195000@thewhiskysours.com
SUMMARY:The Mersey Clipper
DESCRIPTION:
URL:https://thewhiskysours.com/gig/the-mersey-clipper-3/
LOCATION:The Mersey Clipper\, 17 Prenton Road West\, Birkenhead\, Merseyside\, CH42 9PY\, United Kingdom
CATEGORIES:Public
END:VEVENT
BEGIN:VEVENT
DTSTART;TZID=UTC:20241108T200000
DTEND;TZID=UTC:20241108T230000
DTSTAMP:20260424T215638
CREATED:20240321T105940Z
LAST-MODIFIED:20240321T105940Z
UID:1684-1731096000-1731106800@thewhiskysours.com
SUMMARY:The Queen's Arms
DESCRIPTION:
URL:https://thewhiskysours.com/gig/the-queens-arms/
LOCATION:Queens Arms\, Oxton\, 1 Storeton Road\, Oxton\, CH43 5TL\, United Kingdom
CATEGORIES:Public
END:VEVENT
BEGIN:VEVENT
DTSTART;TZID=UTC:20241102T203000
DTEND;TZID=UTC:20241102T233000
DTSTAMP:20260424T215638
CREATED:20241024T142327Z
LAST-MODIFIED:20241024T142327Z
UID:1713-1730579400-1730590200@thewhiskysours.com
SUMMARY:Little Sutton
DESCRIPTION:
URL:https://thewhiskysours.com/gig/little-sutton/
CATEGORIES:Public
END:VEVENT
END:VCALENDAR