BEGIN:VCALENDAR
VERSION:2.0
PRODID:-//The Whisky Sours - ECPv6.15.20//NONSGML v1.0//EN
CALSCALE:GREGORIAN
METHOD:PUBLISH
X-WR-CALNAME:The Whisky Sours
X-ORIGINAL-URL:https://thewhiskysours.com
X-WR-CALDESC:Events for The Whisky Sours
REFRESH-INTERVAL;VALUE=DURATION:PT1H
X-Robots-Tag:noindex
X-PUBLISHED-TTL:PT1H
BEGIN:VTIMEZONE
TZID:UTC
BEGIN:STANDARD
TZOFFSETFROM:+0000
TZOFFSETTO:+0000
TZNAME:UTC
DTSTART:20220101T000000
END:STANDARD
END:VTIMEZONE
BEGIN:VEVENT
DTSTART;TZID=UTC:20241012T203000
DTEND;TZID=UTC:20241012T233000
DTSTAMP:20260424T232245
CREATED:20231109T174449Z
LAST-MODIFIED:20241006T141110Z
UID:1648-1728765000-1728775800@thewhiskysours.com
SUMMARY:Private Event
DESCRIPTION:
URL:https://thewhiskysours.com/gig/johnny-pye-5/
LOCATION:Merseyside
CATEGORIES:Private
END:VEVENT
BEGIN:VEVENT
DTSTART;VALUE=DATE:20240907
DTEND;VALUE=DATE:20240908
DTSTAMP:20260424T232245
CREATED:20240321T105813Z
LAST-MODIFIED:20240321T105813Z
UID:1682-1725667200-1725753599@thewhiskysours.com
SUMMARY:Private Event
DESCRIPTION:
URL:https://thewhiskysours.com/gig/private-event-9/
LOCATION:Merseyside
CATEGORIES:Private
END:VEVENT
BEGIN:VEVENT
DTSTART;TZID=UTC:20240803T203000
DTEND;TZID=UTC:20240803T233000
DTSTAMP:20260424T232245
CREATED:20231109T174252Z
LAST-MODIFIED:20231109T174252Z
UID:1644-1722717000-1722727800@thewhiskysours.com
SUMMARY:Johnny Pye
DESCRIPTION:
URL:https://thewhiskysours.com/gig/johnny-pye-4/
LOCATION:Johnny Pye\, 5 Pye Road\, Heswall\, Merseyside\, CH60 0DB\, United Kingdom
CATEGORIES:Public
END:VEVENT
BEGIN:VEVENT
DTSTART;VALUE=DATE:20240622
DTEND;VALUE=DATE:20240623
DTSTAMP:20260424T232245
CREATED:20240321T105638Z
LAST-MODIFIED:20240321T105638Z
UID:1677-1719014400-1719100799@thewhiskysours.com
SUMMARY:Private Event
DESCRIPTION:
URL:https://thewhiskysours.com/gig/private-event-8/
LOCATION:Merseyside
CATEGORIES:Private
END:VEVENT
BEGIN:VEVENT
DTSTART;TZID=UTC:20240615T210000
DTEND;TZID=UTC:20240615T233000
DTSTAMP:20260424T232245
CREATED:20240321T105608Z
LAST-MODIFIED:20240321T105608Z
UID:1675-1718485200-1718494200@thewhiskysours.com
SUMMARY:Duke's
DESCRIPTION:
URL:https://thewhiskysours.com/gig/dukes-5/
LOCATION:Duke’s\, 1 Seaview Road\, Wallasey\, CH45 4QN\, United Kingdom
CATEGORIES:Public
END:VEVENT
BEGIN:VEVENT
DTSTART;VALUE=DATE:20240531
DTEND;VALUE=DATE:20240601
DTSTAMP:20260424T232245
CREATED:20240321T105519Z
LAST-MODIFIED:20240321T105519Z
UID:1673-1717113600-1717199999@thewhiskysours.com
SUMMARY:Private Event
DESCRIPTION:
URL:https://thewhiskysours.com/gig/private-event-7/
LOCATION:Merseyside
CATEGORIES:Private
END:VEVENT
BEGIN:VEVENT
DTSTART;TZID=UTC:20240525T203000
DTEND;TZID=UTC:20240525T233000
DTSTAMP:20260424T232245
CREATED:20231109T174126Z
LAST-MODIFIED:20231109T174126Z
UID:1641-1716669000-1716679800@thewhiskysours.com
SUMMARY:The James Atherton
DESCRIPTION:
URL:https://thewhiskysours.com/gig/the-james-atherton-2/
LOCATION:The James Atherton\, 117-119 Victoria Rd\, New Brighton\, CH45 2JD\, United Kingdom
CATEGORIES:Public
END:VEVENT
BEGIN:VEVENT
DTSTART;TZID=UTC:20240524T203000
DTEND;TZID=UTC:20240524T233000
DTSTAMP:20260424T232245
CREATED:20231109T174042Z
LAST-MODIFIED:20231109T174042Z
UID:1639-1716582600-1716593400@thewhiskysours.com
SUMMARY:Johnny Pye
DESCRIPTION:
URL:https://thewhiskysours.com/gig/johnny-pye-3/
LOCATION:Johnny Pye\, 5 Pye Road\, Heswall\, Merseyside\, CH60 0DB\, United Kingdom
CATEGORIES:Public
END:VEVENT
BEGIN:VEVENT
DTSTART;TZID=UTC:20240518T200000
DTEND;TZID=UTC:20240518T233000
DTSTAMP:20260424T232245
CREATED:20240321T105440Z
LAST-MODIFIED:20240507T151547Z
UID:1671-1716062400-1716075000@thewhiskysours.com
SUMMARY:The Mersey Clipper
DESCRIPTION:
URL:https://thewhiskysours.com/gig/private-event-6/
LOCATION:The Mersey Clipper\, 17 Prenton Road West\, Birkenhead\, Merseyside\, CH42 9PY\, United Kingdom
CATEGORIES:Public
END:VEVENT
BEGIN:VEVENT
DTSTART;TZID=UTC:20240503T200000
DTEND;TZID=UTC:20240503T230000
DTSTAMP:20260424T232245
CREATED:20240321T105309Z
LAST-MODIFIED:20240321T105309Z
UID:1669-1714766400-1714777200@thewhiskysours.com
SUMMARY:The Queens Arms\, Oxton
DESCRIPTION:
URL:https://thewhiskysours.com/gig/the-queens-arms-oxton-3/
LOCATION:Queens Arms\, Oxton\, 1 Storeton Road\, Oxton\, CH43 5TL\, United Kingdom
CATEGORIES:Public
END:VEVENT
BEGIN:VEVENT
DTSTART;TZID=UTC:20240420T210000
DTEND;TZID=UTC:20240420T233000
DTSTAMP:20260424T232245
CREATED:20240321T105149Z
LAST-MODIFIED:20240321T105149Z
UID:1667-1713646800-1713655800@thewhiskysours.com
SUMMARY:Johnny Pye
DESCRIPTION:
URL:https://thewhiskysours.com/gig/johnny-pye-7/
LOCATION:Johnny Pye\, 5 Pye Road\, Heswall\, Merseyside\, CH60 0DB\, United Kingdom
CATEGORIES:Public
END:VEVENT
BEGIN:VEVENT
DTSTART;TZID=UTC:20240412T210000
DTEND;TZID=UTC:20240412T233000
DTSTAMP:20260424T232245
CREATED:20240321T105056Z
LAST-MODIFIED:20240321T105056Z
UID:1665-1712955600-1712964600@thewhiskysours.com
SUMMARY:Duke's
DESCRIPTION:
URL:https://thewhiskysours.com/gig/dukes-4/
LOCATION:Duke’s\, 1 Seaview Road\, Wallasey\, CH45 4QN\, United Kingdom
CATEGORIES:Public
END:VEVENT
BEGIN:VEVENT
DTSTART;TZID=UTC:20240323T203000
DTEND;TZID=UTC:20240323T233000
DTSTAMP:20260424T232245
CREATED:20231109T173855Z
LAST-MODIFIED:20231109T173855Z
UID:1635-1711225800-1711236600@thewhiskysours.com
SUMMARY:Johnny Pye
DESCRIPTION:
URL:https://thewhiskysours.com/gig/johnny-pye-2/
LOCATION:Johnny Pye\, 5 Pye Road\, Heswall\, Merseyside\, CH60 0DB\, United Kingdom
CATEGORIES:Public
END:VEVENT
BEGIN:VEVENT
DTSTART;TZID=UTC:20240316T210000
DTEND;TZID=UTC:20240316T233000
DTSTAMP:20260424T232245
CREATED:20240321T104956Z
LAST-MODIFIED:20240321T104956Z
UID:1663-1710622800-1710631800@thewhiskysours.com
SUMMARY:The Mersey Clipper
DESCRIPTION:
URL:https://thewhiskysours.com/gig/the-mersey-clipper-2/
LOCATION:The Mersey Clipper\, 17 Prenton Road West\, Birkenhead\, Merseyside\, CH42 9PY\, United Kingdom
CATEGORIES:Public
END:VEVENT
BEGIN:VEVENT
DTSTART;TZID=UTC:20240315T210000
DTEND;TZID=UTC:20240315T233000
DTSTAMP:20260424T232245
CREATED:20240321T104919Z
LAST-MODIFIED:20240321T104919Z
UID:1661-1710536400-1710545400@thewhiskysours.com
SUMMARY:The Queens Arms\, Oxton
DESCRIPTION:
URL:https://thewhiskysours.com/gig/the-queens-arms-oxton-2/
LOCATION:Queens Arms\, Oxton\, 1 Storeton Road\, Oxton\, CH43 5TL\, United Kingdom
CATEGORIES:Public
END:VEVENT
BEGIN:VEVENT
DTSTART;TZID=UTC:20240224T203000
DTEND;TZID=UTC:20240224T233000
DTSTAMP:20260424T232245
CREATED:20231109T173805Z
LAST-MODIFIED:20231109T173805Z
UID:1633-1708806600-1708817400@thewhiskysours.com
SUMMARY:The James Atherton
DESCRIPTION:
URL:https://thewhiskysours.com/gig/the-james-atherton/
LOCATION:The James Atherton\, 117-119 Victoria Rd\, New Brighton\, CH45 2JD\, United Kingdom
CATEGORIES:Public
END:VEVENT
BEGIN:VEVENT
DTSTART;TZID=UTC:20240216T210000
DTEND;TZID=UTC:20240216T233000
DTSTAMP:20260424T232245
CREATED:20240321T104746Z
LAST-MODIFIED:20240321T104746Z
UID:1659-1708117200-1708126200@thewhiskysours.com
SUMMARY:The Queens Arms\, Oxton
DESCRIPTION:
URL:https://thewhiskysours.com/gig/the-queens-arms-oxton/
LOCATION:Queens Arms\, Oxton\, 1 Storeton Road\, Oxton\, CH43 5TL\, United Kingdom
CATEGORIES:Public
END:VEVENT
BEGIN:VEVENT
DTSTART;TZID=UTC:20240210T210000
DTEND;TZID=UTC:20240210T233000
DTSTAMP:20260424T232245
CREATED:20240321T104640Z
LAST-MODIFIED:20240321T104640Z
UID:1657-1707598800-1707607800@thewhiskysours.com
SUMMARY:The Mersey Clipper
DESCRIPTION:
URL:https://thewhiskysours.com/gig/the-mersey-clipper/
LOCATION:The Mersey Clipper\, 17 Prenton Road West\, Birkenhead\, Merseyside\, CH42 9PY\, United Kingdom
CATEGORIES:Public
END:VEVENT
BEGIN:VEVENT
DTSTART;TZID=UTC:20231231T200000
DTEND;TZID=UTC:20240101T010000
DTSTAMP:20260424T232245
CREATED:20231109T173101Z
LAST-MODIFIED:20231109T173349Z
UID:1628-1704052800-1704070800@thewhiskysours.com
SUMMARY:Johnny Pye - NYE
DESCRIPTION:
URL:https://thewhiskysours.com/gig/johnny-pye-nye/
LOCATION:Johnny Pye\, 5 Pye Road\, Heswall\, Merseyside\, CH60 0DB\, United Kingdom
CATEGORIES:Public
END:VEVENT
BEGIN:VEVENT
DTSTART;TZID=UTC:20231223T200000
DTEND;TZID=UTC:20231223T233000
DTSTAMP:20260424T232245
CREATED:20231109T172937Z
LAST-MODIFIED:20231109T172937Z
UID:1626-1703361600-1703374200@thewhiskysours.com
SUMMARY:Johnny Pye
DESCRIPTION:
URL:https://thewhiskysours.com/gig/johnny-pye/
LOCATION:Johnny Pye\, 5 Pye Road\, Heswall\, Merseyside\, CH60 0DB\, United Kingdom
CATEGORIES:Public
END:VEVENT
BEGIN:VEVENT
DTSTART;TZID=UTC:20231208T210000
DTEND;TZID=UTC:20231208T233000
DTSTAMP:20260424T232245
CREATED:20230718T082520Z
LAST-MODIFIED:20230718T082520Z
UID:1614-1702069200-1702078200@thewhiskysours.com
SUMMARY:Dukes
DESCRIPTION:
URL:https://thewhiskysours.com/gig/dukes-3/
LOCATION:Duke’s\, 1 Seaview Road\, Wallasey\, CH45 4QN\, United Kingdom
CATEGORIES:Public
END:VEVENT
BEGIN:VEVENT
DTSTART;TZID=UTC:20231201T180000
DTEND;TZID=UTC:20231201T230000
DTSTAMP:20260424T232245
CREATED:20231109T172724Z
LAST-MODIFIED:20231109T172724Z
UID:1624-1701453600-1701471600@thewhiskysours.com
SUMMARY:Private Event
DESCRIPTION:
URL:https://thewhiskysours.com/gig/private-event-5/
LOCATION:Merseyside
CATEGORIES:Private
END:VEVENT
BEGIN:VEVENT
DTSTART;TZID=UTC:20231124T170000
DTEND;TZID=UTC:20231124T230000
DTSTAMP:20260424T232245
CREATED:20231109T172616Z
LAST-MODIFIED:20231109T172616Z
UID:1622-1700845200-1700866800@thewhiskysours.com
SUMMARY:Private Event
DESCRIPTION:
URL:https://thewhiskysours.com/gig/private-event-4/
LOCATION:Merseyside
CATEGORIES:Private
END:VEVENT
BEGIN:VEVENT
DTSTART;TZID=UTC:20231117T210000
DTEND;TZID=UTC:20231117T233000
DTSTAMP:20260424T232245
CREATED:20230718T082434Z
LAST-MODIFIED:20230718T082434Z
UID:1612-1700254800-1700263800@thewhiskysours.com
SUMMARY:Dukes
DESCRIPTION:
URL:https://thewhiskysours.com/gig/dukes-2/
LOCATION:Duke’s\, 1 Seaview Road\, Wallasey\, CH45 4QN\, United Kingdom
CATEGORIES:Public
END:VEVENT
BEGIN:VEVENT
DTSTART;TZID=UTC:20231111T210000
DTEND;TZID=UTC:20231111T233000
DTSTAMP:20260424T232245
CREATED:20230718T082326Z
LAST-MODIFIED:20230926T104412Z
UID:1610-1699736400-1699745400@thewhiskysours.com
SUMMARY:Private Event
DESCRIPTION:
URL:https://thewhiskysours.com/gig/tbc/
LOCATION:Merseyside
CATEGORIES:Private
END:VEVENT
BEGIN:VEVENT
DTSTART;TZID=UTC:20231013T193000
DTEND;TZID=UTC:20231013T233000
DTSTAMP:20260424T232245
CREATED:20230718T082223Z
LAST-MODIFIED:20230718T082223Z
UID:1608-1697225400-1697239800@thewhiskysours.com
SUMMARY:Private Event
DESCRIPTION:
URL:https://thewhiskysours.com/gig/private-event-2/
LOCATION:Merseyside
CATEGORIES:Private
END:VEVENT
BEGIN:VEVENT
DTSTART;TZID=UTC:20230930T193000
DTEND;TZID=UTC:20230930T233000
DTSTAMP:20260424T232245
CREATED:20230718T082145Z
LAST-MODIFIED:20230718T082145Z
UID:1606-1696102200-1696116600@thewhiskysours.com
SUMMARY:Private Event
DESCRIPTION:
URL:https://thewhiskysours.com/gig/private-event/
LOCATION:Merseyside
CATEGORIES:Private
END:VEVENT
BEGIN:VEVENT
DTSTART;TZID=UTC:20230915T210000
DTEND;TZID=UTC:20230915T233000
DTSTAMP:20260424T232245
CREATED:20230718T082000Z
LAST-MODIFIED:20230718T082000Z
UID:1604-1694811600-1694820600@thewhiskysours.com
SUMMARY:Nyx Sports Bar & Grill
DESCRIPTION:
URL:https://thewhiskysours.com/gig/nyx-sports-bar-grill/
LOCATION:Nyx Sports Bar & Grill\, 1-3 Pensby Road\, Heswall\, CH60 7RA\, United Kingdom
CATEGORIES:Public
END:VEVENT
BEGIN:VEVENT
DTSTART;TZID=UTC:20230909T210000
DTEND;TZID=UTC:20230909T233000
DTSTAMP:20260424T232245
CREATED:20230718T081401Z
LAST-MODIFIED:20230718T081401Z
UID:1599-1694293200-1694302200@thewhiskysours.com
SUMMARY:The Martin Gallier Project\, Private Function
DESCRIPTION:
URL:https://thewhiskysours.com/gig/the-martin-gallier-project-private-function/
LOCATION:Merseyside
CATEGORIES:Private
END:VEVENT
BEGIN:VEVENT
DTSTART;TZID=UTC:20230908T210000
DTEND;TZID=UTC:20230908T233000
DTSTAMP:20260424T232245
CREATED:20230718T081203Z
LAST-MODIFIED:20230718T081203Z
UID:1597-1694206800-1694215800@thewhiskysours.com
SUMMARY:Queens Arms\, Oxton
DESCRIPTION:
URL:https://thewhiskysours.com/gig/queens-arms-oxton/
LOCATION:Queens Arms\, Oxton\, 1 Storeton Road\, Oxton\, CH43 5TL\, United Kingdom
CATEGORIES:Public
END:VEVENT
END:VCALENDAR